BEGIN:VCALENDAR
VERSION:2.0
PRODID:icalendar-ruby
CALSCALE:GREGORIAN
METHOD:PUBLISH
BEGIN:VEVENT
DTSTAMP:20260424T081740Z
UID:10-71259@nhbcmineola.com
DTSTART:20261215T160000Z
DTEND:20261215T170000Z
CLASS:PUBLIC
CREATED:20251130T180826
DESCRIPTION:
LAST-MODIFIED:20251130T180826
LOCATION:
SUMMARY:Women's Missionary Auxiliary
URL;VALUE=URI:https://www.nhbcmineola.com/events/womens-missionary-auxiliar
 y/2026-12-15
ATTACH;FILENAME=wma.png;FMTTYPE=image/png:https://dq5pwpg1q8ru0.cloudfront.
 net/2023/09/03/13/31/50/2f812fc1-0ffc-431a-a90c-aa784b6111ac/wma.png
END:VEVENT
END:VCALENDAR
