BEGIN:VCALENDAR
VERSION:2.0
PRODID:icalendar-ruby
CALSCALE:GREGORIAN
METHOD:PUBLISH
BEGIN:VEVENT
DTSTAMP:20260423T083811Z
UID:351-132567@nhbcmineola.com
DTSTART:20260511T220000Z
DTEND:20260512T010000Z
CLASS:PUBLIC
CREATED:20260313T130025
DESCRIPTION:
LAST-MODIFIED:20260313T130025
LOCATION:Whataburger
SUMMARY:Whataburger Fundraiser
URL;VALUE=URI:https://www.nhbcmineola.com/events/whataburger-fundraiser/202
 6-05-11
ATTACH;FILENAME=whataburger.jpg;FMTTYPE=image/jpeg:https://dq5pwpg1q8ru0.cl
 oudfront.net/2026/03/13/17/46/24/d40a45c3-5f1c-4061-8fda-9eaa05b50808/what
 aburger.jpg
END:VEVENT
END:VCALENDAR
