BEGIN:VCALENDAR
VERSION:2.0
PRODID:icalendar-ruby
CALSCALE:GREGORIAN
METHOD:PUBLISH
BEGIN:VEVENT
DTSTAMP:20260423T122412Z
UID:361-158638@nhbcmineola.com
DTSTART:20260503T220000Z
DTEND:20260503T230000Z
CLASS:PUBLIC
CREATED:20260421T104607
DESCRIPTION:
LAST-MODIFIED:20260421T104607
LOCATION:Children's Church
SUMMARY:Vacation Bible School
URL;VALUE=URI:https://www.nhbcmineola.com/events/vacation-bible-school--361
 /2026-05-03
ATTACH;FILENAME=Sunrise-Themed-VBS-Volunteer-Meeting-Flyer.png;FMTTYPE=imag
 e/png:https://dq5pwpg1q8ru0.cloudfront.net/2026/04/21/15/46/06/a16f01f9-cb
 99-43b2-bfff-53ea6d489944/Sunrise-Themed-VBS-Volunteer-Meeting-Flyer.png
END:VEVENT
END:VCALENDAR
