BEGIN:VCALENDAR
VERSION:2.0
PRODID:icalendar-ruby
CALSCALE:GREGORIAN
METHOD:PUBLISH
BEGIN:VEVENT
DTSTAMP:20260423T090312Z
UID:356-140469@nhbcmineola.com
DTSTART:20260509T130000Z
DTEND:20260509T143000Z
CLASS:PUBLIC
CREATED:20260325T102505
DESCRIPTION:
LAST-MODIFIED:20260325T102505
LOCATION:Fellowship Hall
SUMMARY:Men's Breakfast
URL;VALUE=URI:https://www.nhbcmineola.com/events/mens-breakfast--356/2026-0
 5-09
ATTACH;FILENAME=spring1.jpg;FMTTYPE=image/jpeg:https://dq5pwpg1q8ru0.cloudf
 ront.net/2026/03/25/15/25/05/bde0fee7-bc51-4c83-a486-3deeab45d507/spring1.
 jpg
END:VEVENT
END:VCALENDAR
