BEGIN:VCALENDAR
VERSION:2.0
PRODID:icalendar-ruby
CALSCALE:GREGORIAN
METHOD:PUBLISH
BEGIN:VEVENT
DTSTAMP:20260423T104510Z
UID:360-154540@nhbcmineola.com
DTSTART:20260602T230000Z
DTEND:20260603T003000Z
CLASS:PUBLIC
CREATED:20260415T095256
DESCRIPTION:
LAST-MODIFIED:20260415T095256
LOCATION:Children's Church
SUMMARY:GriefShare
URL;VALUE=URI:https://www.nhbcmineola.com/events/griefshare--360/2026-06-02
ATTACH;FILENAME=summer2.jpg;FMTTYPE=image/jpeg:https://dq5pwpg1q8ru0.cloudf
 ront.net/2026/04/15/14/52/56/13bc2281-a834-4d02-8e1f-6685183d561a/summer2.
 jpg
END:VEVENT
END:VCALENDAR
