BEGIN:VCALENDAR
VERSION:2.0
PRODID:icalendar-ruby
CALSCALE:GREGORIAN
METHOD:PUBLISH
BEGIN:VEVENT
DTSTAMP:20260423T090342Z
UID:357-141311@nhbcmineola.com
DTSTART:20260426T160000Z
DTEND:20260426T210000Z
CLASS:PUBLIC
CREATED:20260326T133742
DESCRIPTION:
LAST-MODIFIED:20260326T133742
LOCATION:Golden Chick in Mineola
SUMMARY:Golden Chick Youth Fundraiser
URL;VALUE=URI:https://www.nhbcmineola.com/events/golden-chick-youth-fundrai
 ser/2026-04-26
ATTACH;FILENAME=golden-chicken.jpeg;FMTTYPE=image/jpeg:https://dq5pwpg1q8ru
 0.cloudfront.net/2026/03/26/18/36/43/878dac23-30f1-4406-8755-0ff0cb08bc67/
 golden-chicken.jpeg
END:VEVENT
END:VCALENDAR
