BEGIN:VCALENDAR
VERSION:2.0
PRODID:icalendar-ruby
CALSCALE:GREGORIAN
METHOD:PUBLISH
BEGIN:VEVENT
DTSTAMP:20260423T102153Z
UID:221-158637@nhbcmineola.com
DTSTART:20260517T170000Z
DTEND:20260517T180000Z
CLASS:PUBLIC
CREATED:20260421T104414
DESCRIPTION:
LAST-MODIFIED:20260421T104414
LOCATION:
SUMMARY:GMA & Sunbeams Lunch Fundraiser
URL;VALUE=URI:https://www.nhbcmineola.com/events/gma-sunbeams-lunch-fundrai
 ser--221/2026-05-17
ATTACH;FILENAME=Red-and-White-Illustrated-Lunch-Invitation-Presentation.jpg
 ;FMTTYPE=image/jpeg:https://dq5pwpg1q8ru0.cloudfront.net/2026/04/21/15/44/
 13/91672fcc-27f5-42ff-a6a4-6947f8debb6e/Red-and-White-Illustrated-Lunch-In
 vitation-Presentation.jpg
END:VEVENT
END:VCALENDAR
