BEGIN:VCALENDAR
VERSION:2.0
PRODID:icalendar-ruby
CALSCALE:GREGORIAN
METHOD:PUBLISH
BEGIN:VEVENT
DTSTAMP:20260423T104827Z
UID:346-132571@nhbcmineola.com
DTSTART;VALUE=DATE:20260523
DTEND;VALUE=DATE:20260523
CLASS:PUBLIC
CREATED:20260313T135022
DESCRIPTION:
LAST-MODIFIED:20260313T135022
LOCATION:Fellowship Hall
SUMMARY:Fellowship Hall
URL;VALUE=URI:https://www.nhbcmineola.com/events/fellowship-hall/2026-05-23
ATTACH;FILENAME=5.png;FMTTYPE=image/png:https://dq5pwpg1q8ru0.cloudfront.ne
 t/2026/03/03/14/06/36/c5735f74-a50c-40c0-adc0-56dc82a93020/5.png
END:VEVENT
END:VCALENDAR
