BEGIN:VCALENDAR
VERSION:2.0
PRODID:icalendar-ruby
CALSCALE:GREGORIAN
METHOD:PUBLISH
BEGIN:VEVENT
DTSTAMP:20260424T105617Z
UID:18-70257@nhbcmineola.com
DTSTART:20261119T010000Z
DTEND:20261119T020000Z
CLASS:PUBLIC
CREATED:20251121T075140
DESCRIPTION:
LAST-MODIFIED:20251121T075140
LOCATION:
SUMMARY:Building Utilization Meeting
URL;VALUE=URI:https://www.nhbcmineola.com/events/building-utilization-meeti
 ng/2026-11-18
ATTACH;FILENAME=commbu.png;FMTTYPE=image/png:https://dq5pwpg1q8ru0.cloudfro
 nt.net/2023/01/12/07/19/40/f31ed3ec-dba2-416e-8c4d-21a597df9d10/commbu.png
END:VEVENT
END:VCALENDAR
